BEGIN:VCALENDAR
METHOD:PUBLISH
VERSION:2.0
CALSCALE:GREGORIAN
PRODID:-//NONSGML WPForms//NONSGML Sugar Calendar Feeds v3.10.0//EN
X-WR-CALNAME:History of Rock and Roll
X-WR-CALDESC:Sonic Planet
X-WR-TIMEZONE:America/New_York
BEGIN:VTIMEZONE
TZID:America/New_York
BEGIN:STANDARD
TZOFFSETFROM:-0400
TZOFFSETTO:-0500
DTSTART:20251102T060000
TZNAME:EST
END:STANDARD
END:VTIMEZONE
BEGIN:VTIMEZONE
TZID:America/New_York
BEGIN:STANDARD
TZOFFSETFROM:-0400
TZOFFSETTO:-0500
DTSTART:20251102T060000
TZNAME:EST
END:STANDARD
END:VTIMEZONE
BEGIN:VEVENT
SUMMARY:History of Rock and Roll
DESCRIPTION:Sundays @ 8 p.m.
URL;VALUE=URI:https://thesonicplanet.com/events/history-of-rock-and-roll
 -2/
UID:urn:uuid:1cfcda43-571c-42af-a2e0-a23e70305b12
STATUS:CONFIRMED
ORGANIZER:
DTSTAMP:20260421T110452Z
DTSTART;TZID=America/New_York:20260303T000000
DTEND;TZID=America/New_York:20260303T000000
END:VEVENT
END:VCALENDAR